BEGIN:VCALENDAR
VERSION:2.0
PRODID:-//Mind Body Center - ECPv6.15.11//NONSGML v1.0//EN
CALSCALE:GREGORIAN
METHOD:PUBLISH
X-WR-CALNAME:Mind Body Center
X-ORIGINAL-URL:https://mindbody.com.np/center
X-WR-CALDESC:Events for Mind Body Center
REFRESH-INTERVAL;VALUE=DURATION:PT1H
X-Robots-Tag:noindex
X-PUBLISHED-TTL:PT1H
BEGIN:VTIMEZONE
TZID:Asia/Kathmandu
BEGIN:STANDARD
TZOFFSETFROM:+0545
TZOFFSETTO:+0545
TZNAME:+0545
DTSTART:20230101T000000
END:STANDARD
END:VTIMEZONE
BEGIN:VEVENT
DTSTART;TZID=Asia/Kathmandu:20240831T130000
DTEND;TZID=Asia/Kathmandu:20240831T143000
DTSTAMP:20260421T221409
CREATED:20220127T065144Z
LAST-MODIFIED:20240829T060016Z
UID:773-1725109200-1725114600@mindbody.com.np
SUMMARY:Speakers Club
DESCRIPTION:This is monthly Speaking Session. \nYou will need to prepare a three minute talk on Mental health issues \, either in Nepali or English. This is highly recommended. \nThe third session of Speakers Club will be held as follows: \n1pm sharp\nSaturday\, 31st August 2024\nContact 9841-896000\nLocation www.mindbody.com.np/info \nIntroduction\nFeatured speech on Mental Health\nThree minute talk on your hobby\nFeedback\nNext session details \nYou will need to confirm your participation by noon this Friday \nLet’s make speaking fun!
URL:https://mindbody.com.np/center/event/newa/
LOCATION:Mind Body Center\, Babarmahal\, Kathmandu\, none\, Nepal
ORGANIZER;CN="Mind Body Center":MAILTO:kumar.r.shrestha@gmail.com
END:VEVENT
END:VCALENDAR